BEGIN:VCALENDAR
VERSION:2.0
PRODID:-//RIGHTHERE//CALENDARIZE IT V3.2//EN
BEGIN:VEVENT
UID:359-events@balance-is.yoga
DTSTART:20170715T221500Z
DTEND:20170716T001500Z
SUMMARY:Здоровая спина                             ( Яна И.)
RRULE:FREQ=WEEKLY;INTERVAL=1
LOCATION:Большой Зал
END:VEVENT
END:VCALENDAR