BEGIN:VCALENDAR
VERSION:2.0
PRODID:-//RIGHTHERE//CALENDARIZE IT V3.2//EN
BEGIN:VEVENT
UID:350-events@balance-is.yoga
DTSTART:20170714T210000Z
DTEND:20170714T230000Z
SUMMARY:Классическая ЙОГА (Яна И.)
RRULE:FREQ=WEEKLY;INTERVAL=1
LOCATION:Большой Зал
END:VEVENT
END:VCALENDAR