BEGIN:VCALENDAR
VERSION:2.0
PRODID:-//RIGHTHERE//CALENDARIZE IT V3.2//EN
BEGIN:VEVENT
UID:2280-events@balance-is.yoga
DTSTART:20190907T013000Z
DTEND:20190907T023000Z
SUMMARY:Молодежная йога 13-17 лет (Ксения И.)
RRULE:FREQ=WEEKLY;INTERVAL=1
LOCATION:Большой Зал
END:VEVENT
END:VCALENDAR