BEGIN:VCALENDAR
VERSION:2.0
PRODID:-//RIGHTHERE//CALENDARIZE IT V3.2//EN
BEGIN:VEVENT
UID:2265-events@balance-is.yoga
DTSTART:20190904T053000Z
DTEND:20190904T063000Z
SUMMARY:Здоровые спинки 7-12 лет (Ольга Г.)
RRULE:FREQ=WEEKLY;INTERVAL=1
LOCATION:Большой Зал
END:VEVENT
END:VCALENDAR