BEGIN:VCALENDAR
VERSION:2.0
PRODID:-//RIGHTHERE//CALENDARIZE IT V3.2//EN
BEGIN:VEVENT
UID:2255-events@balance-is.yoga
DTSTART:20190903T230000Z
DTEND:20190904T003000Z
SUMMARY:Хатха йога (Наталья Р.)
RRULE:FREQ=WEEKLY;INTERVAL=1;BYDAY=MO,WE,FR;WKST=SU
LOCATION:Малый зал
END:VEVENT
END:VCALENDAR