BEGIN:VCALENDAR
VERSION:2.0
PRODID:-//RIGHTHERE//CALENDARIZE IT V3.2//EN
BEGIN:VEVENT
UID:1242-events@balance-is.yoga
DTSTART:20180725T053000Z
DTEND:20180725T070000Z
SUMMARY:Йога для начинающих (Ольга Г.)
RRULE:FREQ=WEEKLY;INTERVAL=1;BYDAY=TU,TH;WKST=SU
LOCATION:Большой Зал
END:VEVENT
END:VCALENDAR